BEGIN:VCALENDAR
VERSION:2.0
PRODID:spatie/icalendar-generator
DESCRIPTION:Events from American Patriots of North Florida
X-WR-CALDESC:Events from American Patriots of North Florida
REFRESH-INTERVAL;VALUE=DURATION:PT1440M
X-PUBLISHED-TTL:PT1440M
BEGIN:VTIMEZONE
TZID:America/New_York
BEGIN:STANDARD
DTSTART:20251102T020000Z
TZOFFSETFROM:-0400
TZOFFSETTO:-0500
END:STANDARD
BEGIN:DAYLIGHT
DTSTART:20260308T020000Z
TZOFFSETFROM:-0500
TZOFFSETTO:-0400
END:DAYLIGHT
BEGIN:STANDARD
DTSTART:20261101T020000Z
TZOFFSETFROM:-0400
TZOFFSETTO:-0500
END:STANDARD
END:VTIMEZONE
BEGIN:VTIMEZONE
TZID:UTC
BEGIN:STANDARD
DTSTART:20250724T114104Z
TZOFFSETFROM:+0000
TZOFFSETTO:+0000
END:STANDARD
END:VTIMEZONE
BEGIN:VEVENT
UID:48-6
DTSTAMP:20260420T114104Z
SUMMARY:Suwannee County School Board Meeting
LOCATION:School Board Meeting Room 1740 Ohio Avenue South  Live Oak FL 3206
 4
ORGANIZER;CN=admin:MAILTO:sgfont@earthlink.net
RRULE:FREQ=MONTHLY;BYDAY=4TU;UNTIL=20260922T000000Z
DTSTART;TZID=America/New_York:20260526T173000
DTEND;TZID=America/New_York:20260526T183000
X-ALT-DESC;FMTTYPE=TEXT/HTML:Normally held on the 4th Tuesday of the month 
 at  6:00 p.m. Regular Meeting School Board meetings are open to the publi
 c with the exception of Expulsion Issues\, which are private. The meetings
  are held in the School Board Meeting Room\, 1740 Ohio Avenue\, South\, Li
 ve Oak\, Florida. If a person decides to appeal any&amp;hellip\;
CATEGORIES:Board of County Commissioners
URL;VALUE=URI:https://americanpatriotsofnorthflorida.com/mc-events/suwannee
 -county-school-board-meeting/?mc_id=48
METHOD:PUBLISH
END:VEVENT
END:VCALENDAR